Workbook

Sheet №1
J1: Додаток № 1 до рішення сесії від 16.09.2026 року №4060-VIII
C3: Напрямки, завдання та заходи Програми
M4: грн.
A5: № завдання | B5: Завдання | C5: № заходу | D5: Зміст заходів | E5: Цільова група (жінки/чоловіки різних груп) | F5: Термін виконання | G5: Виконавці | H5: Джерела фінансування | I5: Обсяги фінансування | M5: Очікуваний результат
I6: 2024 | J6: 2025 | K6: 2026 | L6: Всього
A7: 1 | B7: Енергетичний аудит обєктів комунальної власності | C7: 1 | D7: енергоаудит обєктів комунальної вартості управління культури,молоді та спорту | F7: 2024-2026 | G7: управління культури,молоді та спорту | H7: місцевий бюджет | L7: =SUM(I7:K7) -> 0 | M7: визначається перелік заходів, які необхідно реалізувати та формується завдання на проектування
C8: 2 | D8: Капітальний ремонт мереж внутрішнього електропостачання з улаштуванням сонячної станції для будівлі Фонтанської сільської ради Одеського району Одеської області за адресою: с. Крижанівка, вул. Ветеранів, 5 (Здійснення авторського нагляду за виконанням будівельних робіт) | F8: 2024-2026 | G8: відділ ЖКГ | H8: місцевий бюджет | I8: 80000 | K8: 3411 | L8: =SUM(I8:K8) -> 83411 | M8: визначається перелік заходів, які необхідно реалізувати та формується завдання на проектування
C9: 3 | D9: Реконструкція мереж внутрішнього електропостачання з улаштуванням сонячної станції на даху ліцея «Фонтанський» Фонтанської сільської ради за адресою: Одеська область, Одеський район, село Фонтанка, вулиця Центральна, 55 | F9: 2024-2026 | G9: Управління капітального будівництва | H9: місцевий бюджет | J9: 82500 | K9: 82100 | L9: 164600 | M9: визначається перелік заходів, які необхідно реалізувати та формується завдання на проектування
C10: 4 | D10: Капітальний ремонт мереж внутрішнього електропостачання з улаштуванням сонячної станції для будівлі закладу дошкільної освіти «Карамелька » Фонтанської сільської ради Одеського району Одеської області за адресою : с.Крижанівка вул . Софіївська , 4 | F10: 2024-2026 | G10: Управління капітального будівництва | H10: місцевий бюджет | J10: 3800000 | K10: 3218000 | L10: 7018000 | M10: визначається перелік заходів, які необхідно реалізувати та формується завдання на проектування
C11: 5 | D11: Капітальний ремонт мереж внутрішнього електропостачання з улаштуванням сонячної станції для будівлі Фонтанської сільської ради Одеського району Одеської області за адресою: с. Крижанівка, вул. Ветеранів, 5 | F11: 2024-2026 | G11: Управління капітального будівництва | H11: місцевий бюджет | J11: 1500000 | K11: 1410100 | L11: =SUM(I11:K11) -> 2910100 | M11: визначається перелік заходів, які необхідно реалізувати та формується завдання на проектування
C12: 6 | D12: Реконструкція мереж внутрішнього електропостачання з улаштуванням сонячної станції на даху КЗ "Фонтанський сільський будинок культури", який розташований за адресою: Одеська обл., Одеський р-н, с.Фонтанка, вул. Центральна 46" | F12: 2024-2026 | G12: Управління капітального будівництва | H12: місцевий бюджет | J12: 133500 | K12: 0 | L12: =SUM(I12:K12) -> 133500 | M12: визначається перелік заходів, які необхідно реалізувати та формується завдання на проектування
C13: 7 | D13: Капітальний ремонт мереж внутрішнього електропостачання з улаштуванням сонячної станції для будівлі закладу дошкільної освіти «Карамелька» Фонтанської сільської ради Одеського району Одеської області за адресою: с.Крижанівка вул. Софіївська,4 (розробка проектно – кошторисної документації ,експертний звіт) | F13: 2024-2026 | G13: Управління освіти | H13: місцевий бюджет | I13: 80000 | J13: 19000 | K13: 12000 | L13: 111000 | M13: визначається перелік заходів, які необхідно реалізувати та формується завдання на проектування
C14: 16 | D14: Придбання обладнання довгострокового використання | F14: 2026 | G14: Фонтанська сільська рада | H14: місцевий бюджет | K14: 70000 | L14: 70000 | M14: підвищення енергоефективності будівель та зменшення обсягу споживання енергії та пов’язаних витрат
C15: 17 | D15: Придбання предметів та матеріалів | F15: 2026 | G15: Фонтанська сільська рада | H15: місцевий бюджет | K15: 16000 | L15: 16000 | M15: підвищення енергоефективності будівель та зменшення обсягу споживання енергії та пов’язаних витрат
C16: 18 | D16: оплата інших послуг (крім комунальних) | F16: 2026 | G16: Фонтанська сільська рада | H16: місцевий бюджет | K16: 101000 | L16: 101000 | M16: підвищення енергоефективності будівель та зменшення обсягу споживання енергії та пов’язаних витрат
C17: 19 | D17: Придбання електричного приладдя та супутніх товарів до електрообладнання | F17: 2026 | G17: Фонтанська сільська рада | H17: місцевий бюджет | K17: 100000 | L17: 100000 | M17: підвищення енергоефективності будівель та зменшення обсягу споживання енергії та пов’язаних витрат
C18: 20 | D18: Послуги з обслуговування сонячної станції адміністративної будівлі Фонтанської сільської ради Одеського району Одеської області в с. Крижанівка, вул. Ветеранів, 5 | F18: 2026 | G18: Фонтанська сільська рада | H18: місцевий бюджет | K18: 35000 | L18: 35000 | M18: підвищення енергоефективності будівель та зменшення обсягу споживання енергії та пов’язаних витрат
C19: 21 | D19: Капітальний ремонт мереж внутрішнього електропостачання з улаштуванням сонячної станції для будівлі Ліцею "Олександрівський" Фонтанської сільської ради Одеського району Одеської області за адресою: Одеська область, Одеський район, с.Олександрівка вул. Одеська,2» (розробка проектно – кошторисної документації ,експертний звіт) | F19: 2024-2026 | G19: Управління освіти | H19: місцевий бюджет | I19: 80000 | J19: 19000 | K19: 200000 | L19: =SUM(I19:K19) -> 299000 | M19: визначається перелік заходів, які необхідно реалізувати та формується завдання на проектування
A20: ВСЬОГО | I20: =SUM(I7:I19) -> 240000 | J20: =SUM(J7:J19) -> 5554000 | K20: =SUM(K8:K19) -> 5247611 | L20: =SUM(L8:L19) -> 11041611
A21: 2 | B21: Здійснення комплексної термомодернізації та енергоефективності та енергонезалежності будівель | C21: 1 | D21: Капітальні та поточні видатки за результатами енергоаудиту обєктів комунальної вартості управління культури,молоді та спорту | F21: 2024-2026 | G21: управління культури,молоді та спорту | H21: місцевий бюджет | L21: =SUM(I21:K21) -> 0 | M21: підвищення енергоефективності будівель та зменшення обсягу споживання енергії та пов’язаних витрат
C22: 2 | D22: Капітальні та поточні видатки за результатами енергоаудиту обєктів комунальної вартості Фонтанської сільської ради | F22: 2024-2026 | G22: відділ ЖКГ | H22: місцевий бюджет | L22: =SUM(I22:K22) -> 0 | M22: підвищення енергоефективності будівель та зменшення обсягу споживання енергії та пов’язаних витрат
C23: 3 | D23: Капітальні та поточні видатки за результатами енергоаудиту обєктів комунальної вартості управління освіти | F23: 2024-2026 | G23: Управління освіти | H23: місцевий бюджет | L23: =SUM(I23:K23) -> 0 | M23: підвищення енергоефективності будівель та зменшення обсягу споживання енергії та пов’язаних витрат
A24: ВСЬОГО | I24: =SUM(I21:I23) -> 0 | J24: =SUM(J21:J23) -> 0 | K24: =SUM(K21:K23) -> 0 | L24: =SUM(L21:L23) -> 0
A25: 3 | B25: Широка поінформованість щодо енергетичної ефективності будівель | C25: 1 | D25: забезпечення функціонування в центрах надання адміністративних послуг консультаційної служби з інформування населення про заходи щодо підвищення рівня енергоефективності будівель | F25: 2024-2026 | G25: ЦНАП | H25: місцевий бюджет | I25: * | J25: * | K25: * | M25: проведення розяснювальної роботи серед населення громади щодо ощадливого споживання енергоресурсів
C26: 2 | D26: забезпечення функціонування в центрах надання адміністративних послуг консультаційної служби з інформування населення про заходи щодо підвищення рівня енергоефективності будівель підтримка ініціатив щодо інформування про переваги енергоефективності органами місцевого самоврядування за участю організацій громадянського суспільства | F26: 2024-2026 | G26: ЦНАП та громадські організації громади | H26: місцевий бюджет | I26: * | J26: * | K26: * | M26: залучення громадських організацій до енергоожадливих технологій споживання на території громади, визначення обєктів які потребують першочергових заходів з енергоощадливого споживання
C27: 3 | D27: Розяснювальна робота серед учнів закладів освіти щодо енергоощадливого споживання як в закладах освіти так і вдома я | F27: 2024-2026 | G27: ЦНАП та громадські організації громади | H27: місцевий бюджет | I27: * | J27: * | K27: * | M27: запровадження культури енергоощадливого споживання серед школярів
A28: ВСЬОГО
A29: 4 | B29: Залучення інвестицій для проведення термомодернізації, енергоефективності та енергозбереження об’єктів, які розміщені на території Фонтанської сільської територіальної громади | C29: 1 | D29: забезпечення наповнення онлайн-платформи з підготовки і реалізації енергоефективних проектів (проектів термомодернізації) пропозиціями щодо надання фінансової підтримки міжнародними фінансовими організаціями,щодо апроведення термомодернізації | F29: 2024-2026 | G29: Фонтанська сільська рада | H29: місцевий бюджет | M29: залучення додатково фінансового ресурсу для фінансування енергоефективних проектів
A30: ВСЬОГО | I30: =SUM(I21:I23) -> 0 | J30: =SUM(J21:J23) -> 0 | K30: =SUM(K21:K23) -> 0 | L30: =SUM(L21:L23) -> 0
A31: ВСЬОГО ПО ПРОГРАМІ | I31: =I20+I30 -> 240000 | J31: =J20+J30 -> 5554000 | K31: 5247611 | L31: 11041611
B33: *заходи не потребують фінансування
B35: В. о. сільського голови Андрій СЕРЕБРІЙ

Sheet №2
E1: Додаток № 2 до рішення сесії від 16.09.2026 року №4060-VIII
B2: Показники результативності Програми
I3: грн.
A4: № | B4: Назва показника | C4: Одиниця | D4: Вихідні дані на початок дії програми | E4: І етап виконання програми | H4: II етап | I4: III етап
E5: 2024 | F5: 2025 | G5: 2026
A8: І. Показники затрат
A9: 1 | B9: Енергетичний аудит обєктів комунальної власності | C9: грн | E9: =№1!I20 -> 240000 | F9: =№1!J20 -> 5554000 | G9: 5247611
A10: 2 | B10: Здійснення комплексної термомодернізації та енергоефективності та енергонезалежності будівель утому числі : | C10: грн. | E10: =№1!I30 -> 0 | F10: =№1!J30 -> 0 | G10: =№1!K30 -> 0
A11: 2.1. | B11: на енергоаудиту | C11: грн.
A12: 2.1.1. | B12: кількість обєктів комунальної власності,які потребують енергоаудиту | C12: од. | E12: 3
A13: 2.2. | B13: на утеплення даху | C13: грн.
A14: 2.2.1. | B14: кількість обєктів комунальної власності,які потребують • утеплення даху | C14: шт.
A15: 2.3. | B15: на утеплення зовнішніх огороджуючих конструкцій | C15: грн.
A16: 2.3.1. | B16: кількість обєктів комунальної власності,які потребують • утеплення зовнішніх огороджуючих конструкцій | C16: шт.
A17: 2.4. | B17: назаміну зовнішніх вікон та дверей на сучасні енергоефективні | C17: грн.
A18: 2.4.1. | B18: кількість обєктів комунальної власності,які потребують • заміну зовнішніх вікон та дверей на сучасні енергоефективні | C18: шт.
A19: 2.5. | B19: на утеплення цоколю (вище і нижче рівня землі) | C19: грн.
A20: 2.5.1. | B20: кількість обєктів комунальної власності,які потребують • утеплення цоколю (вище і нижче рівня землі) | C20: шт.
A21: 2.6. | B21: намодернізацію та балансування системи опалення | C21: грн.
A22: 2.6.1. | B22: кількість обєктів комунальної власності,які потребують • модернізацію та балансування системи опалення | C22: шт.
A23: 2.7. | B23: навстановлення індивідуального теплового пункту з погодозалежним регулюванням та можливістю дистанційного керування | C23: грн.
A24: 2.7.1. | B24: кількість обєктів -встановлення індивідуального теплового пункту з погодозалежним регулюванням та можливістю дистанційного керування | C24: шт.
A25: 2.8. | B25: нафункціонування систем електропостачання від сонячних електростанцій; | C25: грн.
A26: 2.8.1. | B26: кількість обєктів -функціонування систем електропостачання від сонячних електростанцій; | C26: шт. | F26: 1 | G26: 1
A27: 2.9. | B27: на виконання супутніх робіт не обов’язково безпосередньо пов’язаних з термомодернізацією, однак без реалізації яких ефективне, тривале і надійне функціонування будівлі неможливе, зокрема але не виключно лише таких заходів: ремонт існуючої або облаштування нової системи водовідведення, ремонт існуючої або облаштування нової відмостки, ремонт або реконструкція даху, тощо | C27: грн.
A28: 2.9.1. | B28: кількість обєктів комунальної власності,які потребують • виконання супутніх робіт не обов’язково безпосередньо пов’язаних з термомодернізацією, однак без реалізації яких ефективне, тривале і надійне функціонування будівлі неможливе, зокрема але не виключно лише таких заходів: ремонт існуючої або облаштування нової системи водовідведення, ремонт існуючої або облаштування нової відмостки, ремонт або реконструкція даху, тощо | C28: шт.
A29: 3 | B29: Кількість мешканок та мешканців громади, що користуються послугами з благоустрою, всього, в т.ч.: | C29: осіб | D29: 24 312 | F29: 25085 | G29: 25085
B30: жінок | C30: осіб | D30: 13 629 | F30: 14260 | G30: 14260
B31: чоловіків | C31: осіб | D31: 10 683 | F31: 10825 | G31: 10825
A32: II Показники продукту
A33: 1 | B33: кількість обєктів комунальної власності,виділено на енергоаудиту | C33: од.
A34: 2 | B34: кількість обєктів комунальної власності,виділено на утеплення даху | C34: шт.
A35: 3 | B35: кількість обєктів комунальної власності,виділено на утеплення зовнішніх огороджуючих конструкцій | C35: шт.
A36: 4 | B36: кількість обєктів комунальної власності,виділено на заміну зовнішніх вікон та дверей на сучасні енергоефективні | C36: шт.
A37: 5 | B37: кількість обєктів комунальної власності,виділено на утеплення цоколю (вище і нижче рівня землі) | C37: шт.
A38: 6 | B38: кількість обєктів комунальної власності,виділено на модернізацію та балансування системи опалення | C38: шт.
A39: 7 | B39: кількість обєктів виділено на встановлення індивідуального теплового пункту з погодозалежним регулюванням та можливістю дистанційного керування | C39: шт.
A40: 8 | B40: кількість обєктів виділено на функціонування систем електропостачання від сонячних електростанцій; | C40: шт. | E40: 3 | F40: 2 | G40: 2
A41: 9 | B41: кількість обєктів комунальної власності виділено на виконання супутніх робіт не обов’язково безпосередньо пов’язаних з термомодернізацією, однак без реалізації яких ефективне, тривале і надійне функціонування будівлі неможливе, зокрема але не виключно лише таких заходів: ремонт існуючої або облаштування нової системи водовідведення, ремонт існуючої або облаштування нової відмостки, ремонт або реконструкція даху, тощо | C41: шт.
A42: 10 | B42: кількість заходів проведених щодо інформування енергоощадливого споживання | C42: шт.
...

Sheet №3
E1: Додаток №3 до рішення сесії від 16.09.2026 року №4060-VIII
B3: Ресурсне забезпечення Програми
H4: грн.
B5: Обсяг коштів, що пропонується залучити до виконання Програми | C5: Етапи виконання програми | H5: Всього витрат на виконання Програми
C7: І | F7: II | G7: III
C8: 2024 | D8: 2025 | E8: 2026 | F8: 20- 20 | G8: 20 - 20
F9: роки | G9: роки
B10: 1 | C10: 2 | E10: 3 | F10: 5 | G10: 6 | H10: 7
B11: Обсяг ресурсів, всього, | C11: =C14 -> 240000 | D11: =D14 -> 5554000 | E11: 5247611 | H11: 11041611
B12: у тому числі:
B13: державний бюджет | H13: 11041611
B14: сільський бюджет | C14: =№2!E9 -> 240000 | D14: =№2!F9 -> 5554000 | E14: 5247611
B15: кошти небюджетних джерел
B18: В.о.сільського голови Андрій СЕРЕБРІЙ
